BEGIN:VCALENDAR
VERSION:2.0
CALSCALE:GREGORIAN
PRODID:adamgibbons/ics
METHOD:PUBLISH
X-PUBLISHED-TTL:PT1H
BEGIN:VEVENT
UID:373@tricity.dance
SUMMARY:GENIA BY THE SEA | Authentic Jazz & Blues Workshop
DTSTAMP:20260424T144003Z
DTSTART:20260515T180000Z
DTEND:20260517T150000Z
DESCRIPTION:Druga odsłona naszych nadmorskich warsztatów: BY THE SEA\nTym r
	azem naszą gościnią będzie niezwykła tancerka\, wszechstronnie utalentowan
	a\ni obdarzona wyjątkowym stylem - GENIA TSVIETKOVA\n\nGenia poprowadzi dl
	a nas warsztaty z Authentic Jazzu oraz -uwaga... BLUES’A! Po\nraz pierwszy
	 w naszej szkole pojawi się okazja do nauki ekspresyjnego\,\nintuicyjnego 
	i płynącego prosto z trzewi\, Blues’a.\n\nWszystkie zajęcia odbędą się na 
	poziomie OPEN. Niezależnie od tego\, czy dopiero\nzaczynasz\, tańczysz już
	 od jakiegoś czasu\, czy jesteś zawodowcem - wyniesiesz z\nnich wiedzę i i
	nspirację\, których nie sposób przecenić. Spotkanie z nauczycielką\no tak 
	bogatym doświadczeniu i unikalnym stylu to szansa\, której nie warto\nprze
	gapić.\n\nWażne: Przy zapisach na zajęcia w parach nie wymagamy określenia
	 roli\n(Leader/Follower). Nie potrzebujesz też partnera ani partnerki\, by
	 się\nzarejestrować!\n\nWeekend z Genią rozpoczynamy naszą urodzinową impr
	ezą w piątek\, 15 maja o 20:00\nw Sopocie (tuż przy samej plaży!). Chcemy 
	wspólnie z Wami uczcić pierwszy rok\ndziałalności naszej szkoły w Trójmieś
	cie – jak najbliżej morza!\n\nWYDARZENIE IMPREZY: https://www.facebook.com
	/events/25744467285222842\n[https://www.facebook.com/events/25744467285222
	842]\n\nCena warsztatów zawiera wejściówkę na imprezę.\n\nREJESTRACJA: htt
	ps://www.shimsham3city.pl/by-the-sea-warsztaty.../\n[https://www.shimsham3
	city.pl/by-the-sea-warsztaty.../]\n\nRozkład jazdy\n\nSobota & Niedziela:\
	n\n• 12:00 – 13:30 | Authentic Jazz\nLekkość i luz instrumentów! Weźmiemy 
	na warsztat klasyczne jazzowe ruchy i\nwspólnie odkryjemy ich nowy wymiar.
	 Poznasz narzędzia\, które natychmiast\nurozmaicą Twój taniec\, sprawiając
	\, że poczujesz się na parkiecie znacznie\npewniej i bardziej kreatywnie\,
	 nawet gdy muzyka Cię zaskoczy.\n\n• 13:45 – 15:15 | Blues Solo\nSkupimy s
	ię na świadomości ciała i ekspresji. To połączenie techniki z emocjami\nor
	az głęboki szacunek do rytmu i korzeni bluesa. Przełamiesz bariery wstydu 
	i\nodkryjesz zupełnie nowy poziom ekspresji\, który pozwoli Ci wyrażać emo
	cje ciałem\nw sposób\, o jaki wcześniej byś się nie podejrzewał/a.\n\n• 15
	:30 – 17:00 | Blues w parach\nPostawimy na umiejętności komunikacji\, rytm
	 oraz intencję w ruchu. Wszystko w\nduchu wzajemnego szacunku partnerów w 
	tańcu. Nauczysz się "słuchać" partnera/ki\nbez słów\, co zmieni Twój tanie
	c w głęboki\, satysfakcjonujący dialog i sprawi\, że\nkażda minuta na park
	iecie stanie się wspólną przygodą\, a nie tylko odtwarzaniem\nfigur.\n\nCe
	nnik:\n• 1 blok zajęć: 340 zł\n• 2 bloki zajęć: 540 zł\n• 3 bloki zajęć: 6
	50 zł\n\n*zajęcia odbędą się w języku angielskim\n\nMiejsce:\nCiałko Studi
	o\, ul. Łąkowa 35/38\, Gdańsk\n\nREJESTRACJA: https://www.shimsham3city.pl
	/by-the-sea-warsztaty.../\n[https://www.shimsham3city.pl/by-the-sea-warszt
	aty.../]\n\nO Geni\n\nPrzygoda Geni z tańcem zaczęła się\, gdy miała zaled
	wie 6 lat. Dziś jest uznaną\ntancerką Lindy Hop i Bluesa pochodzącą z Kijo
	wa. Jej życie to nieustanna nauka i\nodkrywanie nowych form ruchu. Uwielbi
	a proces nauczania\, pracę z ludźmi oraz\nwymianę energii i pomysłów. Na s
	woich zajęciach Genia kładzie największy nacisk\nna odkrywanie motoryki ci
	ała i kontrolę nad ruchem\, ale przede wszystkim na\nczystą radość płynącą
	 ze słuchania muzyki i pozwalania\, by to ona nas\nprowadziła.\n\nPoznaj G
	enie bardziej -> https://www.instagram.com/zveto4kina\n[https://www.instag
	ram.com/zveto4kina]\n\n————————————————-ENG——————————————-\nsecond edition
	 of our seaside workshops: BY THE SEA\nThis time\, our guest will be an ex
	traordinary dancer\, multi-talented and blessed\nwith a unique style – GEN
	IA TSVIETKOVA\n\nGenia will lead workshops in Authentic Jazz and – wait fo
	r it... BLUES! For the\nfirst time at our school\, you'll have the chance 
	to learn expressive\, intuitive\,\nand soul-stirring Blues\, flowing strai
	ght from the gut.\n\nAll classes will be held at an OPEN level. Whether yo
	u are just starting out\,\nhave been dancing for a while\, or are a pro – 
	you will gain invaluable knowledge\nand inspiration. Learning from a teach
	er with such vast experience and a unique\nstyle is an opportunity you don
	't want to miss.\n\nNote: For partner classes\, we do not require you to s
	pecify a role\n(Leader/Follower). You don’t need a partner to register!\n\
	nWe kick off the weekend with Genia at our birthday party on Friday\, May 
	15th\, at\n8:00 PM in Sopot (right by the beach!). We want to celebrate th
	e first year of\nour school in the Tri-City together with you – as close t
	o the sea as possible!\n\nPARTY EVENT: https://www.facebook.com/events/257
	44467285222842\n[https://www.facebook.com/events/25744467285222842]\n\nThe
	 workshop price includes the party entrance fee.\n\nREGISTRATION: https://
	www.shimsham3city.pl/by-the-sea-warsztaty.../\n[https://www.shimsham3city.
	pl/by-the-sea-warsztaty.../]\n\nSchedule\n\nSaturday & Sunday:\n• 12:00 – 
	13:30 | Authentic Jazz\nThe lightness and ease of the instruments! We’ll d
	ive into classic jazz moves\nand discover their new dimension together. Yo
	u will gain tools that immediately\ndiversify your dance\, making you feel
	 much more confident and creative on the\nfloor\, even when the music surp
	rises you.\n\n• 13:45 – 15:15 | Blues Solo\nWe will focus on body awarenes
	s and expression. It’s a blend of technique and\nemotion\, with a deep res
	pect for the rhythm and roots of Blues. You’ll break\nthrough barriers of 
	shyness and discover a completely new level of expression\,\nallowing you 
	to convey emotions through your body in ways you never thought\npossible.\
	n\n• 15:30 – 17:00 | Blues in Pairs\nWe’ll focus on communication skills\,
	 rhythm\, and intention in movement—all in\nthe spirit of mutual respect b
	etween partners. You will learn to "listen" to\nyour partner without words
	\, turning your dance into a deep\, satisfying dialogue\,\nmaking every mi
	nute on the floor a shared adventure rather than just executing\npatterns.
	\n\nPricing:\n• 1 block: 340 PLN\n• 2 blocks: 540 PLN\n• 3 blocks: 650 PLN
	\n\n*Classes will be conducted in English\n\nLocation:\nCiałko Studio\, ul
	. Łąkowa 35/38\, Gdańsk\n\nREGISTRATION: https://www.shimsham3city.pl/by-t
	he-sea-warsztaty.../\n[https://www.shimsham3city.pl/by-the-sea-warsztaty..
	./]\n\nAbout Genia\nGenia’s dancing journey began when she was just 6 year
	s old. Today\, she is an\nacclaimed Lindy Hop and Blues dancer from Kyiv. 
	Her life is a continuous journey\nof learning and exploring new forms of m
	ovement. She truly appreciates the\nprocess of teaching\, working with peo
	ple\, and sharing energy and ideas. In her\nclasses\, Genia emphasizes dis
	covering body mechanics and control\, but above all\,\nthe pure joy of lis
	tening to music and letting it move you.\n\nGet to know Genia better: http
	s://www.instagram.com/zveto4kina\n[https://www.instagram.com/zveto4kina]
URL:https://tricity.dance/event/genia-by-the-sea-or-authentic-jazz-and-blue
	s-workshop
LOCATION:Ciałko Studio - ul. Łąkowa 35/38\, Gdańsk
STATUS:CONFIRMED
CATEGORIES:warsztaty,ShimShamTrójmiasto
X-ALT-DESC;FMTTYPE=text/html:<p>Druga odsłona naszych nadmorskich warsztató
	w: BY THE SEA <br>Tym razem naszą gościnią będzie niezwykła tancerka, wsze
	chstronnie utalentowana i obdarzona wyjątkowym stylem - GENIA TSVIETKOVA</
	p><p>Genia poprowadzi dla nas warsztaty z Authentic Jazzu oraz -uwaga... B
	LUES’A! Po raz pierwszy w naszej szkole pojawi się okazja do nauki ekspres
	yjnego, intuicyjnego i płynącego prosto z trzewi, Blues’a.</p><p>Wszystkie
	 zajęcia odbędą się na poziomie OPEN. Niezależnie od tego, czy dopiero zac
	zynasz, tańczysz już od jakiegoś czasu, czy jesteś zawodowcem - wyniesiesz
	 z nich wiedzę i inspirację, których nie sposób przecenić. Spotkanie z nau
	czycielką o tak bogatym doświadczeniu i unikalnym stylu to szansa, której 
	nie warto przegapić.</p><p>Ważne: Przy zapisach na zajęcia w parach nie wy
	magamy określenia roli (Leader/Follower). Nie potrzebujesz też partnera an
	i partnerki, by się zarejestrować!</p><p>Weekend z Genią rozpoczynamy nasz
	ą urodzinową imprezą w piątek, 15 maja o 20:00 w Sopocie (tuż przy samej p
	laży!). Chcemy wspólnie z Wami uczcić pierwszy rok działalności naszej szk
	oły w Trójmieście – jak najbliżej morza!</p><p>WYDARZENIE IMPREZY: <a targ
	et="_blank" href="https://www.facebook.com/events/25744467285222842"><stro
	ng>https://www.facebook.com/events/25744467285222842</strong></a></p><p>Ce
	na warsztatów zawiera wejściówkę na imprezę.</p><p>REJESTRACJA: <a target=
	"_blank" href="https://www.shimsham3city.pl/by-the-sea-warsztaty.../"><str
	ong>https://www.shimsham3city.pl/by-the-sea-warsztaty.../</strong></a></p>
	<p>Rozkład jazdy</p><p>Sobota &amp; Niedziela:</p><p>• 12:00 – 13:30 | Aut
	hentic Jazz<br>Lekkość i luz instrumentów! Weźmiemy na warsztat klasyczne 
	jazzowe ruchy i wspólnie odkryjemy ich nowy wymiar. Poznasz narzędzia, któ
	re natychmiast urozmaicą Twój taniec, sprawiając, że poczujesz się na park
	iecie znacznie pewniej i bardziej kreatywnie, nawet gdy muzyka Cię zaskocz
	y.</p><p>• 13:45 – 15:15 | Blues Solo<br>Skupimy się na świadomości ciała 
	i ekspresji. To połączenie techniki z emocjami oraz głęboki szacunek do ry
	tmu i korzeni bluesa. Przełamiesz bariery wstydu i odkryjesz zupełnie nowy
	 poziom ekspresji, który pozwoli Ci wyrażać emocje ciałem w sposób, o jaki
	 wcześniej byś się nie podejrzewał/a.</p><p>• 15:30 – 17:00 | Blues w para
	ch<br>Postawimy na umiejętności komunikacji, rytm oraz intencję w ruchu. W
	szystko w duchu wzajemnego szacunku partnerów w tańcu. Nauczysz się "słuch
	ać" partnera/ki bez słów, co zmieni Twój taniec w głęboki, satysfakcjonują
	cy dialog i sprawi, że każda minuta na parkiecie stanie się wspólną przygo
	dą, a nie tylko odtwarzaniem figur.</p><p>Cennik:<br>• 1 blok zajęć: 340 z
	ł<br>• 2 bloki zajęć: 540 zł<br>• 3 bloki zajęć: 650 zł</p><p>*zajęcia odb
	ędą się w języku angielskim</p><p>Miejsce:<br>Ciałko Studio, ul. Łąkowa 35
	/38, Gdańsk</p><p>REJESTRACJA: <a target="_blank" href="https://www.shimsh
	am3city.pl/by-the-sea-warsztaty.../"><strong>https://www.shimsham3city.pl/
	by-the-sea-warsztaty.../</strong></a></p><p>O Geni</p><p>Przygoda Geni z t
	ańcem zaczęła się, gdy miała zaledwie 6 lat. Dziś jest uznaną tancerką Lin
	dy Hop i Bluesa pochodzącą z Kijowa. Jej życie to nieustanna nauka i odkry
	wanie nowych form ruchu. Uwielbia proces nauczania, pracę z ludźmi oraz wy
	mianę energii i pomysłów. Na swoich zajęciach Genia kładzie największy nac
	isk na odkrywanie motoryki ciała i kontrolę nad ruchem, ale przede wszystk
	im na czystą radość płynącą ze słuchania muzyki i pozwalania, by to ona na
	s prowadziła.</p><p>Poznaj Genie bardziej -&gt; <a target="_blank" href="h
	ttps://www.instagram.com/zveto4kina"><strong>https://www.instagram.com/zve
	to4kina</strong></a></p><p>————————————————-ENG——————————————-<br>second e
	dition of our seaside workshops: BY THE SEA <br>This time, our guest will 
	be an extraordinary dancer, multi-talented and blessed with a unique style
	 – GENIA TSVIETKOVA</p><p>Genia will lead workshops in Authentic Jazz and 
	– wait for it... BLUES! For the first time at our school, you'll have the 
	chance to learn expressive, intuitive, and soul-stirring Blues, flowing st
	raight from the gut.</p><p>All classes will be held at an OPEN level. Whet
	her you are just starting out, have been dancing for a while, or are a pro
	 – you will gain invaluable knowledge and inspiration. Learning from a tea
	cher with such vast experience and a unique style is an opportunity you do
	n't want to miss.</p><p>Note: For partner classes, we do not require you t
	o specify a role (Leader/Follower). You don’t need a partner to register!<
	/p><p>We kick off the weekend with Genia at our birthday party on Friday, 
	May 15th, at 8:00 PM in Sopot (right by the beach!). We want to celebrate 
	the first year of our school in the Tri-City together with you – as close 
	to the sea as possible!</p><p>PARTY EVENT: <a target="_blank" href="https:
	//www.facebook.com/events/25744467285222842"><strong>https://www.facebook.
	com/events/25744467285222842</strong></a></p><p>The workshop price include
	s the party entrance fee.</p><p>REGISTRATION: <a target="_blank" href="htt
	ps://www.shimsham3city.pl/by-the-sea-warsztaty.../"><strong>https://www.sh
	imsham3city.pl/by-the-sea-warsztaty.../</strong></a></p><p>Schedule</p><p>
	Saturday &amp; Sunday:<br>• 12:00 – 13:30 | Authentic Jazz<br>The lightnes
	s and ease of the instruments! We’ll dive into classic jazz moves and disc
	over their new dimension together. You will gain tools that immediately di
	versify your dance, making you feel much more confident and creative on th
	e floor, even when the music surprises you.</p><p>• 13:45 – 15:15 | Blues 
	Solo<br>We will focus on body awareness and expression. It’s a blend of te
	chnique and emotion, with a deep respect for the rhythm and roots of Blues
	. You’ll break through barriers of shyness and discover a completely new l
	evel of expression, allowing you to convey emotions through your body in w
	ays you never thought possible.</p><p>• 15:30 – 17:00 | Blues in Pairs<br>
	We’ll focus on communication skills, rhythm, and intention in movement—all
	 in the spirit of mutual respect between partners. You will learn to "list
	en" to your partner without words, turning your dance into a deep, satisfy
	ing dialogue, making every minute on the floor a shared adventure rather t
	han just executing patterns.</p><p>Pricing:<br>• 1 block: 340 PLN<br>• 2 b
	locks: 540 PLN<br>• 3 blocks: 650 PLN</p><p>*Classes will be conducted in 
	English</p><p>Location:<br>Ciałko Studio, ul. Łąkowa 35/38, Gdańsk</p><p>R
	EGISTRATION: <a target="_blank" href="https://www.shimsham3city.pl/by-the-
	sea-warsztaty.../"><strong>https://www.shimsham3city.pl/by-the-sea-warszta
	ty.../</strong></a></p><p>About Genia <br>Genia’s dancing journey began wh
	en she was just 6 years old. Today, she is an acclaimed Lindy Hop and Blue
	s dancer from Kyiv. Her life is a continuous journey of learning and explo
	ring new forms of movement. She truly appreciates the process of teaching,
	 working with people, and sharing energy and ideas. In her classes, Genia 
	emphasizes discovering body mechanics and control, but above all, the pure
	 joy of listening to music and letting it move you.</p><p>Get to know Geni
	a better: <a target="_blank" href="https://www.instagram.com/zveto4kina"><
	strong>https://www.instagram.com/zveto4kina</strong></a></p>
END:VEVENT
END:VCALENDAR
